BEGIN:VCALENDAR
VERSION:2.0
PRODID:-// - ECPv6.15.20//NONSGML v1.0//EN
CALSCALE:GREGORIAN
METHOD:PUBLISH
X-ORIGINAL-URL:https://stgeorgelight.org
X-WR-CALDESC:Events for 
REFRESH-INTERVAL;VALUE=DURATION:PT1H
X-Robots-Tag:noindex
X-PUBLISHED-TTL:PT1H
BEGIN:VTIMEZONE
TZID:America/New_York
BEGIN:DAYLIGHT
TZOFFSETFROM:-0500
TZOFFSETTO:-0400
TZNAME:EDT
DTSTART:20240310T070000
END:DAYLIGHT
BEGIN:STANDARD
TZOFFSETFROM:-0400
TZOFFSETTO:-0500
TZNAME:EST
DTSTART:20241103T060000
END:STANDARD
BEGIN:DAYLIGHT
TZOFFSETFROM:-0500
TZOFFSETTO:-0400
TZNAME:EDT
DTSTART:20250309T070000
END:DAYLIGHT
BEGIN:STANDARD
TZOFFSETFROM:-0400
TZOFFSETTO:-0500
TZNAME:EST
DTSTART:20251102T060000
END:STANDARD
BEGIN:DAYLIGHT
TZOFFSETFROM:-0500
TZOFFSETTO:-0400
TZNAME:EDT
DTSTART:20260308T070000
END:DAYLIGHT
BEGIN:STANDARD
TZOFFSETFROM:-0400
TZOFFSETTO:-0500
TZNAME:EST
DTSTART:20261101T060000
END:STANDARD
END:VTIMEZONE
BEGIN:VEVENT
DTSTART;TZID=America/New_York:20251107T170000
DTEND;TZID=America/New_York:20251107T190000
DTSTAMP:20260420T095923
CREATED:20251029T201155Z
LAST-MODIFIED:20251029T201155Z
UID:5149-1762534800-1762542000@stgeorgelight.org
SUMMARY:Coastal Art Club Exhibition by the students of Apalachicola Bay Charter School
DESCRIPTION:The Cape St. George Lighthouse Museum is proud to feature the Coastal Art Club Exhibition\, showcasing artwork by the talented students of Apalachicola Bay Charter School. Sponsored by Arts4All Florida\, the exhibit celebrates creativity inspired by our coastal environment. Join us for the opening reception on Friday\, November 7\, 2025\, from 5–7 p.m. at the museum. The event is free and open to the public\, and the exhibition will be on display through November 21\, 2025. Come support these young artists and enjoy an evening of art and community by the lighthouse.
URL:https://stgeorgelight.org/event/coastal-art-club-exhibition-by-the-students-of-apalachicola-bay-charter-school/
LOCATION:St. George Lighthouse\, 2B East Gulf Beach Drive\, St. George Island\, FL\, 32328\, United States
ATTACH;FMTTYPE=image/jpeg:https://stgeorgelight.org/wp-content/uploads/2025/10/coastartclubflyerversionC.jpg
ORGANIZER;CN="St. George Lighthouse Association":MAILTO:capestgeorgelight@gmail.com
END:VEVENT
END:VCALENDAR