BEGIN:VCALENDAR
VERSION:2.0
PRODID:-// - ECPv6.15.20//NONSGML v1.0//EN
CALSCALE:GREGORIAN
METHOD:PUBLISH
X-ORIGINAL-URL:https://stgeorgelight.org
X-WR-CALDESC:Events for 
REFRESH-INTERVAL;VALUE=DURATION:PT1H
X-Robots-Tag:noindex
X-PUBLISHED-TTL:PT1H
BEGIN:VTIMEZONE
TZID:America/New_York
BEGIN:DAYLIGHT
TZOFFSETFROM:-0500
TZOFFSETTO:-0400
TZNAME:EDT
DTSTART:20250309T070000
END:DAYLIGHT
BEGIN:STANDARD
TZOFFSETFROM:-0400
TZOFFSETTO:-0500
TZNAME:EST
DTSTART:20251102T060000
END:STANDARD
BEGIN:DAYLIGHT
TZOFFSETFROM:-0500
TZOFFSETTO:-0400
TZNAME:EDT
DTSTART:20260308T070000
END:DAYLIGHT
BEGIN:STANDARD
TZOFFSETFROM:-0400
TZOFFSETTO:-0500
TZNAME:EST
DTSTART:20261101T060000
END:STANDARD
BEGIN:DAYLIGHT
TZOFFSETFROM:-0500
TZOFFSETTO:-0400
TZNAME:EDT
DTSTART:20270314T070000
END:DAYLIGHT
BEGIN:STANDARD
TZOFFSETFROM:-0400
TZOFFSETTO:-0500
TZNAME:EST
DTSTART:20271107T060000
END:STANDARD
END:VTIMEZONE
BEGIN:VEVENT
DTSTART;TZID=America/New_York:20260325T140000
DTEND;TZID=America/New_York:20260325T160000
DTSTAMP:20260419T224853
CREATED:20260324T145114Z
LAST-MODIFIED:20260324T194802Z
UID:5723-1774447200-1774454400@stgeorgelight.org
SUMMARY:Forgotten Coast En Plein Air St. George Island Artist Demonstrations and Reception
DESCRIPTION:Come watch artists Charles Dickinson\, Joe Gyurcsak\, Kathleen Hudson and Richie Vios as they capture the beauty that is St. George Island and the St. George Lighthouse. Reception immediately following and artists will talk about their paintings. Free to the public.
URL:https://stgeorgelight.org/event/forgotten-coast-en-plein-air-st-george-island-artist-demonstrations-and-reception/
LOCATION:Lighthouse Park\, 2B East Gulf Beach Drive\, St. George Island\, FL\, 32328\, United States
ATTACH;FMTTYPE=image/jpeg:https://stgeorgelight.org/wp-content/uploads/2026/03/2026-Forgotten-Coast-en-Plein-Air.jpg
ORGANIZER;CN="Forgotten Coast En Plein Air":MAILTO:info@forgottencoastenpleinair.com
END:VEVENT
END:VCALENDAR