BEGIN:VCALENDAR
VERSION:2.0
PRODID:-// - ECPv6.15.20//NONSGML v1.0//EN
CALSCALE:GREGORIAN
METHOD:PUBLISH
X-ORIGINAL-URL:https://stgeorgelight.org
X-WR-CALDESC:Events for 
REFRESH-INTERVAL;VALUE=DURATION:PT1H
X-Robots-Tag:noindex
X-PUBLISHED-TTL:PT1H
BEGIN:VTIMEZONE
TZID:America/New_York
BEGIN:DAYLIGHT
TZOFFSETFROM:-0500
TZOFFSETTO:-0400
TZNAME:EDT
DTSTART:20250309T070000
END:DAYLIGHT
BEGIN:STANDARD
TZOFFSETFROM:-0400
TZOFFSETTO:-0500
TZNAME:EST
DTSTART:20251102T060000
END:STANDARD
BEGIN:DAYLIGHT
TZOFFSETFROM:-0500
TZOFFSETTO:-0400
TZNAME:EDT
DTSTART:20260308T070000
END:DAYLIGHT
BEGIN:STANDARD
TZOFFSETFROM:-0400
TZOFFSETTO:-0500
TZNAME:EST
DTSTART:20261101T060000
END:STANDARD
BEGIN:DAYLIGHT
TZOFFSETFROM:-0500
TZOFFSETTO:-0400
TZNAME:EDT
DTSTART:20270314T070000
END:DAYLIGHT
BEGIN:STANDARD
TZOFFSETFROM:-0400
TZOFFSETTO:-0500
TZNAME:EST
DTSTART:20271107T060000
END:STANDARD
END:VTIMEZONE
BEGIN:VEVENT
DTSTART;TZID=America/New_York:20261023T183000
DTEND;TZID=America/New_York:20261023T203000
DTSTAMP:20260420T234738
CREATED:20260312T154927Z
LAST-MODIFIED:20260312T154927Z
UID:5678-1792780200-1792787400@stgeorgelight.org
SUMMARY:7th Annual SGI Lighthouse Trick-or-Treat Spooktacular
DESCRIPTION:The St. George Lighthouse Association will be hosting its 7th Annual SGI Lighthouse Trick-or-Treat Spooktacular on Friday\, October 23rd from 6:30-8:30 pm in SGI Lighthouse Park. This free\, family-friendly event will feature multiple candy stations along the sidewalk and spooky decorations lighting up the park. Guests\, young or old\, are encouraged to wear their favorite costumes and join us for the fun. \nIf you are a local business\, group or resident interested in participating in handing out candy\, please CLICK HERE to sign-up. Booth spots must be reserved online\, in advance. Space is assigned on a first-come\, first-served basis and is very limited. As such\, we recommend you submit a volunteer form as early as possible. \nThe St. George Lighthouse Association is a nonprofit organization and continues to fulfill its mission through the support of our community\, visitors\, and lighthouse association members. While donations are not required\, they are graciously accepted. We hope you will all join us for this family fun event. It is sure to be Spooktacular!
URL:https://stgeorgelight.org/event/7th-annual-sgi-lighthouse-trick-or-treat-spooktacular/
LOCATION:Lighthouse Park\, 2B East Gulf Beach Drive\, St. George Island\, FL\, 32328\, United States
ATTACH;FMTTYPE=image/jpeg:https://stgeorgelight.org/wp-content/uploads/2026/03/SGI-Lighthouse-spooktacular.jpg
ORGANIZER;CN="St. George Lighthouse Association":MAILTO:capestgeorgelight@gmail.com
END:VEVENT
END:VCALENDAR