BEGIN:VCALENDAR
VERSION:2.0
PRODID:-// - ECPv6.15.20//NONSGML v1.0//EN
CALSCALE:GREGORIAN
METHOD:PUBLISH
X-ORIGINAL-URL:https://stgeorgelight.org
X-WR-CALDESC:Events for 
REFRESH-INTERVAL;VALUE=DURATION:PT1H
X-Robots-Tag:noindex
X-PUBLISHED-TTL:PT1H
BEGIN:VTIMEZONE
TZID:America/New_York
BEGIN:DAYLIGHT
TZOFFSETFROM:-0500
TZOFFSETTO:-0400
TZNAME:EDT
DTSTART:20250309T070000
END:DAYLIGHT
BEGIN:STANDARD
TZOFFSETFROM:-0400
TZOFFSETTO:-0500
TZNAME:EST
DTSTART:20251102T060000
END:STANDARD
BEGIN:DAYLIGHT
TZOFFSETFROM:-0500
TZOFFSETTO:-0400
TZNAME:EDT
DTSTART:20260308T070000
END:DAYLIGHT
BEGIN:STANDARD
TZOFFSETFROM:-0400
TZOFFSETTO:-0500
TZNAME:EST
DTSTART:20261101T060000
END:STANDARD
BEGIN:DAYLIGHT
TZOFFSETFROM:-0500
TZOFFSETTO:-0400
TZNAME:EDT
DTSTART:20270314T070000
END:DAYLIGHT
BEGIN:STANDARD
TZOFFSETFROM:-0400
TZOFFSETTO:-0500
TZNAME:EST
DTSTART:20271107T060000
END:STANDARD
END:VTIMEZONE
BEGIN:VEVENT
DTSTART;TZID=America/New_York:20260501T201500
DTEND;TZID=America/New_York:20260501T221500
DTSTAMP:20260419T131007
CREATED:20251204T211217Z
LAST-MODIFIED:20251204T211217Z
UID:5190-1777666500-1777673700@stgeorgelight.org
SUMMARY:MAY SUNSET AND FULL MOON CLIMB
DESCRIPTION:The St. George Lighthouse Association invites the public to experience the magic of the full moon with a Sunset and Full Moon Climb at the Cape St. George Light on Friday\, May 1\, 2026\, from 8:15 to 10:15 p.m. \nEvent Highlights  \n\nSunset at 8:17 p.m.\nMoonrise at 8:34 p.m.\n\nClimb Details \n\nTime: 8:15 p.m. to 10:15 p.m.\nTickets: Tickets can be purchased beginning at 7:45 p.m. in the Lighthouse Gift Shop\,\nNo advance reservations will be accepted.\nCost: General Public – $10.00 per climber; SGLA Member – $7.00 per climber\nPayment: Cash and credit cards are accepted.\nFormat: Fifteen-minute lighthouse climbs are offered on a first-come\, first-served basis.\nCapacity: Each time slot is limited to 12 climbers to ensure safety and comfort.\n\n\nVisitor Requirements \n\nAll climbers must be at least 40 inches tall.\nFor safety reasons\, only children aged 13 and older may access the exterior catwalk.\n\nLocation – The Cape St. George Light is in Lighthouse Park at the center of St. George Island – End of Island Drive (off the bridge) at Gulf Beach Drive. \nHow to Participate \n\nArrive at Lighthouse Park and park in lots on either side of the park.\nVisit the Gift Shop (opening at 7:45 p.m.) to purchase your climb ticket.\nProceed next door to the lighthouse tower and sign up with the lighthouse keeper for your preferred 15-minute climb time.\nPrepare for an unforgettable experience of sweeping panoramic views of Gulf waters and island shores.\n\nWeather Permitting – The Sunset and Full Moon Climb is weather permitting. In the event of inclement conditions\, updates will be posted on the St. George Lighthouse\, Museum & Gift Shop Facebook page.\n\nAbout the Flower Moon\nThe May full moon\, widely known as the “Flower Moon\,” was named by early Native American tribes\, reflecting the explosion of spring blossoms across the Northern Hemisphere. Fields\, forests\, and gardens enter peak bloom\, and this rapid growth made “Flower Moon” an easy seasonal marker in many regions. Other names include Dancing Moon\, Budding Moon\, Milk Moon\, Snake Moon\, and Egg Laying Moon.
URL:https://stgeorgelight.org/event/may-sunset-and-full-moon-climb-2/
LOCATION:St. George Lighthouse\, 2B East Gulf Beach Drive\, St. George Island\, FL\, 32328\, United States
CATEGORIES:Full Moon Climbs
ATTACH;FMTTYPE=image/jpeg:https://stgeorgelight.org/wp-content/uploads/2025/12/FB_IMG_1637845694981.jpg
ORGANIZER;CN="St. George Lighthouse Association":MAILTO:capestgeorgelight@gmail.com
END:VEVENT
BEGIN:VEVENT
DTSTART;TZID=America/New_York:20260531T203000
DTEND;TZID=America/New_York:20260531T233000
DTSTAMP:20260419T131007
CREATED:20251204T211825Z
LAST-MODIFIED:20251204T211825Z
UID:5193-1780259400-1780270200@stgeorgelight.org
SUMMARY:LATE MAY SUNSET AND FULL MOON CLIMB
DESCRIPTION:The St. George Lighthouse Association invites the public to experience the magic of the full moon with a Sunset and Full Moon Climb at the Cape St. George Light on Sunday\, May 31\, 2026\, from 8:30 to 11:30 p.m. \nEvent Highlights  \n\nSunset at 8:35 p.m.\nMoonrise at 9:18 p.m.\n\nClimb Details \n\nTime: 8:30 p.m. to 11:30 p.m.\nTickets: Tickets can be purchased beginning at 8:00 p.m. in the Lighthouse Gift Shop\, No advance reservations will be accepted.\nCost: General Public – $10.00 per climber; SGLA Member – $7.00 per climber\nPayment: Cash and credit cards are accepted.\nFormat: Fifteen-minute lighthouse climbs are offered on a first-come\, first-served basis.\nCapacity: Each time slot is limited to 12 climbers to ensure safety and comfort.\n\n\nVisitor Requirements \n\nAll climbers must be at least 40 inches tall.\nFor safety reasons\, only children aged 13 and older may access the exterior catwalk.\n\nLocation – The Cape St. George Light is in Lighthouse Park at the center of St. George Island – End of Island Drive (off the bridge) at Gulf Beach Drive. \nHow to Participate \n\nArrive at Lighthouse Park and park in lots on either side of the park.\nVisit the Gift Shop (opening at 8:00 p.m.) to purchase your climb ticket.\nProceed next door to the lighthouse tower and sign up with the lighthouse keeper for your preferred 15-minute climb time.\nPrepare for an unforgettable experience of sweeping panoramic views of Gulf waters and island shores.\n\nWeather Permitting – The Sunset and Full Moon Climb is weather permitting. In the event of inclement conditions\, updates will be posted on the St. George Lighthouse\, Museum & Gift Shop Facebook page.\n\nAbout the Blue Moon\nThe late May full moon\, will be a “Blue Moon”.   This is a “monthly Blue Moon”\, which occurs when a calendar month has two full moons. The first full moon of the month is the Flower Moon\, and the second\, on May 31st\, is the Blue Moon. \n 
URL:https://stgeorgelight.org/event/late-may-sunset-and-full-moon-climb/
LOCATION:St. George Lighthouse\, 2B East Gulf Beach Drive\, St. George Island\, FL\, 32328\, United States
CATEGORIES:Full Moon Climbs
ATTACH;FMTTYPE=image/jpeg:https://stgeorgelight.org/wp-content/uploads/2025/12/Night-Mark.jpg
ORGANIZER;CN="St. George Lighthouse Association":MAILTO:capestgeorgelight@gmail.com
END:VEVENT
BEGIN:VEVENT
DTSTART;TZID=America/New_York:20260629T204500
DTEND;TZID=America/New_York:20260629T234500
DTSTAMP:20260419T131007
CREATED:20251204T212747Z
LAST-MODIFIED:20251204T212747Z
UID:5196-1782765900-1782776700@stgeorgelight.org
SUMMARY:JUNE SUNSET AND FULL MOON CLIMB
DESCRIPTION:The St. George Lighthouse Association invites the public to experience the magic of the full moon with a Sunset and Full Moon Climb at the Cape St. George Light on Monday\, June 29\, 2026\, from 8:45 to 11:45 p.m. \nEvent Highlights  \n\nSunset at 8:44 p.m.\nMoonrise at 8:55 p.m.\n\nClimb Details \n\nTime: 8:45 p.m. to 11:45 p.m.\nTickets: Tickets can be purchased beginning at 8:15 p.m. in the Lighthouse Gift Shop\, No advance reservations will be accepted.\nCost: General Public – $10.00 per climber; SGLA Member – $7.00 per climber\nPayment: Cash and credit cards are accepted.\nFormat: Fifteen-minute lighthouse climbs are offered on a first-come\, first-served basis.\nCapacity: Each time slot is limited to 12 climbers to ensure safety and comfort.\n\n\nVisitor Requirements \n\nAll climbers must be at least 40 inches tall.\nFor safety reasons\, only children aged 13 and older may access the exterior catwalk.\n\nLocation – The Cape St. George Light is in Lighthouse Park at the center of St. George Island – End of Island Drive (off the bridge) at Gulf Beach Drive. \nHow to Participate \n\nArrive at Lighthouse Park and park in lots on either side of the park.\nVisit the Gift Shop (opening at 8:15 p.m.) to purchase your climb ticket.\nProceed next door to the lighthouse tower and sign up with the lighthouse keeper for your preferred 15-minute climb time.\nPrepare for an unforgettable experience of sweeping panoramic views of Gulf waters and island shores.\n\nWeather Permitting – The Sunset and Full Moon Climb is weather permitting. In the event of inclement conditions\, updates will be posted on the St. George Lighthouse\, Museum & Gift Shop Facebook page.\n\nAbout the Strawberry Moon\nThe June full moon\, traditionally referred to as the “Strawberry Moon”\, was named by early American Tribes for the strawberry harvesting season.  Because strawberries ripen quickly and briefly\, this moon served as a marker for gathering the first fruit of the year. Other names for this moon are Corn Moon (Algonquin)\, Planting Month (Cherokee)\, Panther Moon (Haida)\, Snake Moon (Catawba) and Joy Moon (Celts).  Across traditions\, the June Moon marks early summer: longer days\, warmer nights\, and the beginning of the main growing season. It’s associated energetically with love\, affection\, celebration\, and community.
URL:https://stgeorgelight.org/event/june-sunset-and-full-moon-climb-3/
LOCATION:St. George Lighthouse\, 2B East Gulf Beach Drive\, St. George Island\, FL\, 32328\, United States
CATEGORIES:Full Moon Climbs
ATTACH;FMTTYPE=image/jpeg:https://stgeorgelight.org/wp-content/uploads/2025/12/Lighthouse-at-night-yelvington.jpg
ORGANIZER;CN="St. George Lighthouse Association":MAILTO:capestgeorgelight@gmail.com
END:VEVENT
BEGIN:VEVENT
DTSTART;TZID=America/New_York:20260729T203000
DTEND;TZID=America/New_York:20260729T233000
DTSTAMP:20260419T131007
CREATED:20251229T175803Z
LAST-MODIFIED:20251229T175803Z
UID:5350-1785357000-1785367800@stgeorgelight.org
SUMMARY:JULY SUNSET AND FULL MOON CLIMB
DESCRIPTION:CAPE ST. GEORGE LIGHT TO HOST JULY SUNSET AND FULL MOON CLIMB\nWednesday\, July 29\, 2026 | 8:30–11:30 p.m. | St. George Island\, Florida \n\n GEORGE ISLAND\, FL – The St. George Lighthouse Association invites the public to experience the magic of the full moon with a Sunset and Full Moon Climb at the Cape St. George Light on Wednesday\, July 29\, 2026\, from 8:30 to 11:30 p.m.\n\nEvent Highlights  \n\nSunset at 8:34 p.m.\nMoonrise at 8:53 p.m.\n\nClimb Details \n\nTime: 8:30 p.m. to 11:30 p.m.\nTickets: Tickets can be purchased beginning at 8:00 p.m. in the Lighthouse Gift Shop. No advance reservations will be accepted.\nCost: General Public – $10.00 per climber; SGLA Member – $7.00 per climber\nPayment: Cash and credit cards are accepted.\nFormat: Fifteen-minute lighthouse climbs are offered on a first-come\, first-served basis.\nCapacity: Each time slot is limited to 12 climbers to ensure safety and comfort.\n\nVisitor Requirements \n\nAll climbers must be at least 40 inches tall.\nFor safety reasons\, only children aged 13 and older may access the exterior catwalk.\n\nLocation – The Cape St. George Light is in Lighthouse Park at the center of St. George Island – End of Island Drive (off the bridge) at Gulf Beach Drive. \nHow to Participate \n\nArrive at Lighthouse Park and park in lots on either side of the park.\nVisit the Gift Shop (opening at 8:00 p.m.) to purchase your climb ticket.\nProceed next door to the lighthouse tower and sign up with the lighthouse keeper for your preferred 15-minute climb time.\nPrepare for an unforgettable experience of sweeping panoramic views of Gulf waters and island shores.\n\nWeather Permitting – The Sunset and Full Moon Climb is weather permitting. In the event of inclement conditions\, updates will be posted on the St. George Lighthouse\, Museum & Gift Shop Facebook page.\n\nAbout the Buck Moon\nThe July full moon\, traditionally referred to as the “Buck Moon”\, was named by indigenous American Tribes referring to the time of year when deer antlers are in rapid growth. The name reflects a visible\, seasonal change in midsummer. Other names for this moon are Thunder Moon (Western Abenaki)\, Raspberry Moon (Algonquin\, Ojibwe)\, Flying Moon (Ojibwe)\, Honeybee Moon (Mahican)\, String Bean Moon (Oneida)\, and Little Sister of the Summer Moon (Tunica).
URL:https://stgeorgelight.org/event/july-sunset-and-full-moon-climb-3/
LOCATION:St. George Lighthouse\, 2B East Gulf Beach Drive\, St. George Island\, FL\, 32328\, United States
CATEGORIES:Full Moon Climbs
ATTACH;FMTTYPE=image/jpeg:https://stgeorgelight.org/wp-content/uploads/2025/04/wish-upon-a-star1.jpeg
ORGANIZER;CN="St. George Lighthouse Association":MAILTO:capestgeorgelight@gmail.com
END:VEVENT
BEGIN:VEVENT
DTSTART;TZID=America/New_York:20260828T200000
DTEND;TZID=America/New_York:20260828T220000
DTSTAMP:20260419T131007
CREATED:20260317T183131Z
LAST-MODIFIED:20260317T183131Z
UID:5692-1787947200-1787954400@stgeorgelight.org
SUMMARY:AUGUST SUNSET AND FULL MOON CLIMB
DESCRIPTION:The St. George Lighthouse Association invites the public to experience the magic of the full moon with a Sunset and Full Moon Climb at the Cape St. George Light on Friday\, August 28\, 2026\, from 8:00 to 10:00 p.m. \nEvent Highlights  \n\nSunset at 8:06 p.m.\nMoonrise at 8:26 p.m.\n\nClimb Details \n\nTime: 8:00 p.m. to 10:00 p.m.\nTickets: Tickets can be purchased beginning at 7:30 p.m. in the Lighthouse Gift Shop\,\n\nNo advance reservations will be accepted. \n\nCost: General Public – $10.00 per climber; SGLA Member – $7.00 per climber\nPayment: Cash and credit cards are accepted.\nFormat: Fifteen-minute lighthouse climbs are offered on a first-come\, first-served basis.\nCapacity: Each time slot is limited to 12 climbers to ensure safety and comfort.\n\nVisitor Requirements \n\nAll climbers must be at least 40 inches tall.\nFor safety reasons\, only children aged 13 and older may access the exterior catwalk.\n\nLocation – The Cape St. George Light is in Lighthouse Park at the center of St. George Island – End of Island Drive (off the bridge) at Gulf Beach Drive. \nHow to Participate \n\nArrive at Lighthouse Park and park in lots on either side of the park.\nVisit the Gift Shop (opening at 7:30 p.m.) to purchase your climb ticket.\nProceed next door to the lighthouse tower and sign up with the lighthouse keeper for your preferred 15-minute climb time.\nPrepare for an unforgettable experience of sweeping panoramic views of Gulf waters and island shores.\n\nWeather Permitting – The Sunset and Full Moon Climb is weather permitting. In the event of inclement conditions\, updates will be posted on the St. George Lighthouse\, Museum & Gift Shop Facebook page.\n\nAbout the Sturgeon Moon\nThe August full moon\, traditionally referred to as the “Sturgeon Moon”\, was named by indigenous American Tribes because of the large numbers of lake sturgeon in the Great Lakes and Lake Champlain. The fish was essential for Native American tribes in the area. The label reflects a regional seasonal marker that later became standardized more broadly. Other names for this moon are Corn Moon (Algonquin and Creek)\, Flying Up Moon (Creek)\, Hot Moon (Tunica) and  Dry Moon (Catawba and Celts).
URL:https://stgeorgelight.org/event/august-sunset-and-full-moon-climb-3/
LOCATION:St. George Lighthouse\, 2B East Gulf Beach Drive\, St. George Island\, FL\, 32328\, United States
CATEGORIES:Full Moon Climbs
ATTACH;FMTTYPE=image/jpeg:https://stgeorgelight.org/wp-content/uploads/2025/12/Full-Moon.jpg
ORGANIZER;CN="St. George Lighthouse Association":MAILTO:capestgeorgelight@gmail.com
END:VEVENT
BEGIN:VEVENT
DTSTART;TZID=America/New_York:20260926T073000
DTEND;TZID=America/New_York:20260926T213000
DTSTAMP:20260419T131007
CREATED:20260317T185745Z
LAST-MODIFIED:20260317T192027Z
UID:5694-1790407800-1790458200@stgeorgelight.org
SUMMARY:SEPTEMBER SUNSET AND FULL MOON CLIMB
DESCRIPTION:The St. George Lighthouse Association invites the public to experience the magic of the full moon with a Sunset and Full Moon Climb at the Cape St. George Light on Saturday\, September 26\, 2026\, from 7:30 to 9:30 p.m. \nEvent Highlights  \n\nSunset at 7:31 p.m.\nMoonrise at 7:26 p.m.\n\nClimb Details \n\nTime: 7:30 p.m. to 9:30 p.m.\nTickets: Tickets can be purchased beginning at 7:00 p.m. in the Lighthouse Gift Shop\,\n\nNo advance reservations will be accepted. \n\nCost: General Public – $10.00 per climber; SGLA Member – $7.00 per climber\nPayment: Cash and credit cards are accepted.\nFormat: Fifteen-minute lighthouse climbs are offered on a first-come\, first-served basis.\nCapacity: Each time slot is limited to 12 climbers to ensure safety and comfort.\n\nVisitor Requirements \n\nAll climbers must be at least 40 inches tall.\nFor safety reasons\, only children aged 13 and older may access the exterior catwalk.\n\nLocation – The Cape St. George Light is in Lighthouse Park at the center of St. George Island – End of Island Drive (off the bridge) at Gulf Beach Drive. \nHow to Participate \n\nArrive at Lighthouse Park and park in lots on either side of the park.\nVisit the Gift Shop (opening at 7:00 p.m.) to purchase your climb ticket.\nProceed next door to the lighthouse tower and sign up with the lighthouse keeper for your preferred 15-minute climb time.\nPrepare for an unforgettable experience of sweeping panoramic views of Gulf waters and island shores.\n\nWeather Permitting – The Sunset and Full Moon Climb is weather permitting. In the event of inclement conditions\, updates will be posted on the St. George Lighthouse\, Museum & Gift Shop Facebook page.\n\nAbout the Harvest Moon\nThe September full moon will be the “Harvest Moon”.  Technically\, the Harvest Moon is the Full Moon closest to the September (Autumn) equinox around September 22. The Harvest Moon is the only Full Moon name determined by the equinox rather than a month. Most years\, it’s in September\, but around every three years\, it falls in October. Before electricity\, it lit the fields for farmers\, giving them more light to gather crops before winter.
URL:https://stgeorgelight.org/event/september-sunset-and-full-moon-climb-3/
LOCATION:St. George Lighthouse\, 2B East Gulf Beach Drive\, St. George Island\, FL\, 32328\, United States
CATEGORIES:Full Moon Climbs
ATTACH;FMTTYPE=image/jpeg:https://stgeorgelight.org/wp-content/uploads/2025/03/Lighthouse-at-night-yelvington.jpg
ORGANIZER;CN="St. George Lighthouse Association":MAILTO:capestgeorgelight@gmail.com
END:VEVENT
BEGIN:VEVENT
DTSTART;TZID=America/New_York:20261026T190000
DTEND;TZID=America/New_York:20261026T210000
DTSTAMP:20260419T131007
CREATED:20260317T192731Z
LAST-MODIFIED:20260317T192731Z
UID:5697-1793041200-1793048400@stgeorgelight.org
SUMMARY:OCTOBER SUNSET AND FULL MOON CLIMB
DESCRIPTION:The St. George Lighthouse Association invites the public to experience the magic of the full moon with a Sunset and Full Moon Climb at the Cape St. George Light on Monday\, October 26\, 2026\, from 7:00 to 9:00 p.m. \nEvent Highlights  \n\nSunset at 6:58 p.m.\nMoonrise at 7:10 p.m.\n\nClimb Details \n\nTime: 7:00 p.m. to 9:00 p.m.\nTickets: Tickets can be purchased beginning at 6:30 p.m. in the Lighthouse Gift Shop. No advance reservations will be accepted.\nCost: General Public – $10.00 per climber; SGLA Member – $7.00 per climber\nPayment: Cash and credit cards are accepted.\nFormat: Fifteen-minute lighthouse climbs are offered on a first-come\, first-served basis.\nCapacity: Each time slot is limited to 12 climbers to ensure safety and comfort.\n\n\nVisitor Requirements \n\nAll climbers must be at least 40 inches tall.\nFor safety reasons\, only children aged 13 and older may access the exterior catwalk.\n\nLocation – The Cape St. George Light is in Lighthouse Park at the center of St. George Island – End of Island Drive (off the bridge) at Gulf Beach Drive. \nHow to Participate \n\nArrive at Lighthouse Park and park in lots on either side of the park.\nVisit the Gift Shop (opening at 6:30 p.m.) to purchase your climb ticket.\nProceed next door to the lighthouse tower and sign up with the lighthouse keeper for your preferred 15-minute climb time.\nPrepare for an unforgettable experience of sweeping panoramic views of Gulf waters and island shores.\n\nWeather Permitting – The Sunset and Full Moon Climb is weather permitting. In the event of inclement conditions\, updates will be posted on the St. George Lighthouse\, Museum & Gift Shop Facebook page.\n\nAbout the Hunter’s Moon\nThe October full moon will be the “Hunter’s Moon”.  The  Hunter’s Moon is the first Full Moon after the Autumn Equinox. Traditionally\, it follows the Harvest Moon and marked the time when tribes hunted and stored food to prepare for winter using the moon’s bright light to track game. Other names for the October Moon Falling Leaves Moon (Ojibwe)\, Drying Rice Moon (Creek)\, Migrating Moon (Creek) and Seed Fall Moon (Celts).
URL:https://stgeorgelight.org/event/october-sunset-and-full-moon-climb-3/
LOCATION:St. George Lighthouse\, 2B East Gulf Beach Drive\, St. George Island\, FL\, 32328\, United States
CATEGORIES:Full Moon Climbs
ATTACH;FMTTYPE=image/jpeg:https://stgeorgelight.org/wp-content/uploads/2025/08/Sunset-at-lighthouse.jpg
ORGANIZER;CN="St. George Lighthouse Association":MAILTO:capestgeorgelight@gmail.com
END:VEVENT
BEGIN:VEVENT
DTSTART;TZID=America/New_York:20261124T173000
DTEND;TZID=America/New_York:20261124T193000
DTSTAMP:20260419T131007
CREATED:20260317T193145Z
LAST-MODIFIED:20260317T193145Z
UID:5699-1795541400-1795548600@stgeorgelight.org
SUMMARY:NOVEMBER SUNSET AND FULL MOON CLIMB
DESCRIPTION:The St. George Lighthouse Association invites the public to experience the magic of the full moon with a Sunset and Full Moon Climb at the Cape St. George Light on Tuesday\, November 24\, 2026\, from 5:30 to 7:30 p.m. \nEvent Highlights  \n\nSunset at 5:41 p.m.\nMoonrise at 5:38 p.m.\n\nClimb Details \n\nTime: 5:30 p.m. to 7:30 p.m.\nTickets: Tickets can be purchased beginning at 5:00 p.m. in the Lighthouse Gift Shop. No advance reservations will be accepted.\nCost: General Public – $10.00 per climber; SGLA Member – $7.00 per climber\nPayment: Cash and credit cards are accepted.\nFormat: Fifteen-minute lighthouse climbs are offered on a first-come\, first-served basis.\nCapacity: Each time slot is limited to 12 climbers to ensure safety and comfort.\n\n\nVisitor Requirements \n\nAll climbers must be at least 40 inches tall.\nFor safety reasons\, only children aged 13 and older may access the exterior catwalk.\n\nLocation – The Cape St. George Light is in Lighthouse Park at the center of St. George Island – End of Island Drive (off the bridge) at Gulf Beach Drive. \nHow to Participate \n\nArrive at Lighthouse Park and park in lots on either side of the park.\nVisit the Gift Shop (opening at 5:00 p.m.) to purchase your climb ticket.\nProceed next door to the lighthouse tower and sign up with the lighthouse keeper for your preferred 15-minute climb time.\nPrepare for an unforgettable experience of sweeping panoramic views of Gulf waters and island shores.\n\nWeather Permitting – The Sunset and Full Moon Climb is weather permitting. In the event of inclement conditions\, updates will be posted on the St. George Lighthouse\, Museum & Gift Shop Facebook page.\n\nAbout the Beaver Moon\nThe November full moon is traditionally referred to as the “Beaver Moon”.  The indigenous American tribes associated this moon to a time when beavers were actively fortifying lodges and were seen securing winter stores of food. Native Americans also called it the Frost Moon and Freezing Moon. The energy of this moon aligns with completion\, persistence\, culmination\, and security.
URL:https://stgeorgelight.org/event/november-sunset-and-full-moon-climb-3/
LOCATION:St. George Lighthouse\, 2B East Gulf Beach Drive\, St. George Island\, FL\, 32328\, United States
CATEGORIES:Full Moon Climbs
ATTACH;FMTTYPE=image/jpeg:https://stgeorgelight.org/wp-content/uploads/2025/12/FB_IMG_1637845694981.jpg
ORGANIZER;CN="St. George Lighthouse Association":MAILTO:capestgeorgelight@gmail.com
END:VEVENT
BEGIN:VEVENT
DTSTART;TZID=America/New_York:20261223T174500
DTEND;TZID=America/New_York:20261223T194500
DTSTAMP:20260419T131007
CREATED:20260317T194219Z
LAST-MODIFIED:20260317T194246Z
UID:5701-1798047900-1798055100@stgeorgelight.org
SUMMARY:DECEMBER SUNSET AND FULL MOON CLIMB
DESCRIPTION:The St. George Lighthouse Association invites the public to experience the magic of the full moon with a Sunset and Full Moon Climb at the Cape St. George Light on Wednesday\, December 23\, 2026\, from 5:45 to 7:45 p.m. \n\nSunset at 5:46p.m.\nMoonrise at 5:23 p.m.\n\nClimb Details \n\nTime: 5:45 p.m. to 7:45 p.m.\nTickets: Tickets can be purchased beginning at 5:15 p.m. in the Lighthouse Gift Shop. No advance reservations will be accepted.\nCost: General Public – $10.00 per climber; SGLA Member – $7.00 per climber\nPayment: Cash and credit cards are accepted.\nFormat: Fifteen-minute lighthouse climbs are offered on a first-come\, first-served basis.\nCapacity: Each time slot is limited to 12 climbers to ensure safety and comfort.\n\nVisitor Requirements \n\nAll climbers must be at least 40 inches tall.\nFor safety reasons\, only children aged 13 and older may access the exterior catwalk.\n\nLocation – The Cape St. George Light is in Lighthouse Park at the center of St. George Island – End of Island Drive (off the bridge) at Gulf Beach Drive. \nHow to Participate \n\nArrive at Lighthouse Park and park in lots on either side of the park.\nVisit the Gift Shop (opening at 5:15 p.m.) to purchase your climb ticket.\nProceed next door to the lighthouse tower and sign up with the lighthouse keeper for your preferred 15-minute climb time.\nPrepare for an unforgettable experience of sweeping panoramic views of Gulf waters and island shores.\n\nWeather Permitting – The Sunset and Full Moon Climb is weather permitting. In the event of inclement conditions\, updates will be posted on the St. George Lighthouse\, Museum & Gift Shop Facebook page.\n\nAbout the Cold Moon\nThe December full moon is traditionally referred to as the “Cold Moon”.  It reflects the long\, cold nights and the deep winter chill that settles over the Northern Hemisphere at this time of year. Other names include the Long Night Moon and the Oak Turning Moon.  Spiritually\, this is a time of reflection\, stillness and harmony.
URL:https://stgeorgelight.org/event/host-december-sunset-and-full-moon-climb/
LOCATION:St. George Lighthouse\, 2B East Gulf Beach Drive\, St. George Island\, FL\, 32328\, United States
CATEGORIES:Full Moon Climbs
ATTACH;FMTTYPE=image/jpeg:https://stgeorgelight.org/wp-content/uploads/2025/11/Lightingofthepalms.jpeg
ORGANIZER;CN="St. George Lighthouse Association":MAILTO:capestgeorgelight@gmail.com
END:VEVENT
END:VCALENDAR