BEGIN:VCALENDAR
VERSION:2.0
PRODID:-// - ECPv6.15.20//NONSGML v1.0//EN
CALSCALE:GREGORIAN
METHOD:PUBLISH
X-ORIGINAL-URL:https://stgeorgelight.org
X-WR-CALDESC:Events for 
REFRESH-INTERVAL;VALUE=DURATION:PT1H
X-Robots-Tag:noindex
X-PUBLISHED-TTL:PT1H
BEGIN:VTIMEZONE
TZID:America/New_York
BEGIN:DAYLIGHT
TZOFFSETFROM:-0500
TZOFFSETTO:-0400
TZNAME:EDT
DTSTART:20240310T070000
END:DAYLIGHT
BEGIN:STANDARD
TZOFFSETFROM:-0400
TZOFFSETTO:-0500
TZNAME:EST
DTSTART:20241103T060000
END:STANDARD
BEGIN:DAYLIGHT
TZOFFSETFROM:-0500
TZOFFSETTO:-0400
TZNAME:EDT
DTSTART:20250309T070000
END:DAYLIGHT
BEGIN:STANDARD
TZOFFSETFROM:-0400
TZOFFSETTO:-0500
TZNAME:EST
DTSTART:20251102T060000
END:STANDARD
BEGIN:DAYLIGHT
TZOFFSETFROM:-0500
TZOFFSETTO:-0400
TZNAME:EDT
DTSTART:20260308T070000
END:DAYLIGHT
BEGIN:STANDARD
TZOFFSETFROM:-0400
TZOFFSETTO:-0500
TZNAME:EST
DTSTART:20261101T060000
END:STANDARD
END:VTIMEZONE
BEGIN:VEVENT
DTSTART;TZID=America/New_York:20251204T173000
DTEND;TZID=America/New_York:20251204T193000
DTSTAMP:20260420T001304
CREATED:20250311T162544Z
LAST-MODIFIED:20250812T151116Z
UID:4933-1764869400-1764876600@stgeorgelight.org
SUMMARY:December Sunset and Full Moon Climb
DESCRIPTION:The December Sunset and Full Moon Climb at the Cape St. George Lighthouse on St. George Island will be held on Thursday\, December 4\, 2025.  Visitors can enjoy this opportunity to view St. George Island\, the Gulf of Mexico and the Apalachicola bay under the evening sky. \nThe Sunset and Full Moon Climb will begin at 5:30 p.m. and run until 7:30 p.m.  Fifteen-minute time slots will be allotted for each group on a first come\, first served basis. No advanced reservations will be taken.  You will purchase your tickets in the gift shop and then sign up for your 15-minute time slot with the lighthouse keeper. Up to 12 persons allowed in each 15-minute time slot. The gift shop will be open at 5:00 p.m. to begin selling tickets. \nCost is $10.00 per climber for the general public and $7.00 for members of the St. George Lighthouse Association. Cash or credit card payments accepted. All climbers must be at least 40 inches tall to climb the tower and children must be age 13 and over to access the outside catwalk.  For more information\, please contact the Lighthouse Gift Shop at 850-927-7745. \nThe sun will set at 5:40 p.m. and the “Cold” moon will rise at 5:18 p.m. on December 4th. The December full moon is called the Cold moon for obvious reasons: winter is about to arrive and temperatures are dropping.  It’s getting cold!  Full Moon names are attributable to Native American tribes\, most notably the Algonquin\, who named the moons to mark the changing seasons. \nThe Cape St. George Light is located in St. George Lighthouse Park at the center of St. George Island\, where Island Drive (the road off the bridge) ends at Gulf Beach Drive.  Parking is available in lots at either side of the park. \n 
URL:https://stgeorgelight.org/event/december-sunset-and-full-moon-climb-2/
LOCATION:St. George Lighthouse\, 2B East Gulf Beach Drive\, St. George Island\, FL\, 32328\, United States
CATEGORIES:Full Moon Climbs
ATTACH;FMTTYPE=image/jpeg:https://stgeorgelight.org/wp-content/uploads/2025/03/Lightingofthepalms.jpeg
ORGANIZER;CN="St. George Lighthouse Association":MAILTO:capestgeorgelight@gmail.com
END:VEVENT
END:VCALENDAR