BEGIN:VCALENDAR
VERSION:2.0
PRODID:-// - ECPv6.15.20//NONSGML v1.0//EN
CALSCALE:GREGORIAN
METHOD:PUBLISH
X-ORIGINAL-URL:https://stgeorgelight.org
X-WR-CALDESC:Events for 
REFRESH-INTERVAL;VALUE=DURATION:PT1H
X-Robots-Tag:noindex
X-PUBLISHED-TTL:PT1H
BEGIN:VTIMEZONE
TZID:America/New_York
BEGIN:DAYLIGHT
TZOFFSETFROM:-0500
TZOFFSETTO:-0400
TZNAME:EDT
DTSTART:20250309T070000
END:DAYLIGHT
BEGIN:STANDARD
TZOFFSETFROM:-0400
TZOFFSETTO:-0500
TZNAME:EST
DTSTART:20251102T060000
END:STANDARD
BEGIN:DAYLIGHT
TZOFFSETFROM:-0500
TZOFFSETTO:-0400
TZNAME:EDT
DTSTART:20260308T070000
END:DAYLIGHT
BEGIN:STANDARD
TZOFFSETFROM:-0400
TZOFFSETTO:-0500
TZNAME:EST
DTSTART:20261101T060000
END:STANDARD
BEGIN:DAYLIGHT
TZOFFSETFROM:-0500
TZOFFSETTO:-0400
TZNAME:EDT
DTSTART:20270314T070000
END:DAYLIGHT
BEGIN:STANDARD
TZOFFSETFROM:-0400
TZOFFSETTO:-0500
TZNAME:EST
DTSTART:20271107T060000
END:STANDARD
END:VTIMEZONE
BEGIN:VEVENT
DTSTART;TZID=America/New_York:20260201T181500
DTEND;TZID=America/New_York:20260201T201500
DTSTAMP:20260419T131308
CREATED:20251204T201149Z
LAST-MODIFIED:20251204T201149Z
UID:5181-1769969700-1769976900@stgeorgelight.org
SUMMARY:February Sunset and Full Moon Climb
DESCRIPTION:CAPE ST. GEORGE LIGHT TO HOST FEBRUARY SUNSET AND FULL MOON CLIMB\nSunday\, February 1\, 2026 | 6:15–8:15 p.m. | St. George Island\, Florida \nExperience the beauty of St. George Island under the glow of the full moon! The St. George Lighthouse Association will host its February Sunset and Full Moon Climb on Sunday\, February 1\, 2026\, from 6:15 to 8:15 p.m. \nEvent Highlights  \n\nSunset at 6:18 p.m.\nMoonrise at 6:14 p.m.\n\nClimb Details \n\nTime: 6:15 p.m. to 8:15 p.m.\nTickets: Tickets can be purchased beginning at 5:45 p.m. in the Lighthouse Gift Shop\,\nNo advance reservations will be accepted.\nCost: General Public – $10.00 per climber; SGLA Member – $7.00 per climber\nPayment: Cash and credit cards are accepted.\nFormat: Fifteen-minute lighthouse climbs are offered on a first-come\, first-served basis.\nCapacity: Each time slot is limited to 12 climbers to ensure safety and comfort.\n\nVisitor Requirements \n\nAll climbers must be at least 40 inches tall.\nFor safety reasons\, only children aged 13 and older may access the exterior catwalk.\n\nLocation – The Cape St. George Light is in Lighthouse Park at the center of St. George Island – End of Island Drive (off the bridge) at Gulf Beach Drive. \nHow to Participate \n\nArrive at Lighthouse Park and park in lots on either side of the park.\nVisit the Gift Shop (opening at 5:45 p.m.) to purchase your climb ticket.\nProceed next door to the lighthouse tower and sign up with the lighthouse keeper for your\npreferred 15-minute climb time.\nPrepare for an unforgettable experience of sweeping panoramic views of Gulf waters and island shores.\n\nWeather Permitting – The Sunset and Full Moon Climb is weather permitting. In the event of inclement conditions\, updates will be posted on the St. George Lighthouse\, Museum & Gift Shop Facebook page. \nAbout the Snow Moon\nThe February full moon\, often called the “Snow Moon\,” was named by early Native American tribes and European settlers who associated it with abundant snowfall in the Northern Hemisphere. Some North American tribes named it the Hungry Moon due to the scarce food sources and hard hunting conditions during mid-winter\, while others named it Bear Moon\, referring to bear cubs being born this time of year. Celtic and Old English names for the February Full Moon are Storm Moon and Ice Moon.
URL:https://stgeorgelight.org/event/february-sunset-and-full-moon-climb-2/
LOCATION:St. George Lighthouse\, 2B East Gulf Beach Drive\, St. George Island\, FL\, 32328\, United States
CATEGORIES:Full Moon Climbs
ATTACH;FMTTYPE=image/jpeg:https://stgeorgelight.org/wp-content/uploads/2025/12/sgi-light-with-night-mark.jpg
ORGANIZER;CN="St. George Lighthouse Association":MAILTO:capestgeorgelight@gmail.com
END:VEVENT
BEGIN:VEVENT
DTSTART;TZID=America/New_York:20260207T110000
DTEND;TZID=America/New_York:20260207T160000
DTSTAMP:20260419T131308
CREATED:20250311T195604Z
LAST-MODIFIED:20251008T160815Z
UID:4941-1770462000-1770480000@stgeorgelight.org
SUMMARY:5th Annual SGI ShrimpFest
DESCRIPTION:The St. George Lighthouse Association is thrilled to announce the upcoming 5th Annual SGI ShrimpFest\, a celebration of succulent shrimp dishes\, vibrant music\, unique shopping\, and a festive atmosphere that promises a wonderful experience for all. \nMARK YOUR CALENDARS… This year’s festival will take place on Saturday\, February 7\, 2026\, from 11:00 AM to 4:00 PM in the western parking area adjacent to Lighthouse Park. Festival-goers can enjoy a shrimp-lover’s paradise as local chefs serve up their best shrimp dishes\, paired with vibrant entertainment and a festive island atmosphere. \nTickets for the event are $5.00 for ages 13+ and will be available starting January 2\, 2026\, in person at the Lighthouse Gift Shop. Tickets will also be available at the gate on the day of the festival. Children twelve years of age and under are FREE but still require the “purchase” of a free ticket for entry. \nThe SGI ShrimpFest is more than a great day out—it’s also the ONLY fundraiser supporting the St. George Lighthouse Association (SGLA)\, a 501(c)(3) nonprofit corporation organized to restore\, preserve\, maintain\, and promote the Cape St. George Lighthouse. Funds raised are vital for the ongoing maintenance and enhancement of the Lighthouse\, the Keeper’s House Museum\, the Gift Shop and Lighthouse Park. \n**Organizers are currently seeking sponsors and supporters to help make this community event possible. For more details or to become a sponsor\, visit www.sgishrimpfest.com. \nWhether you’re a seafood enthusiast\, a music lover\, or simply looking for a day of family fun on St. George Island\, join us at the SGI ShrimpFest. It has something for everyone!!
URL:https://stgeorgelight.org/event/5th-annual-sgi-shrimpfest/
LOCATION:Lighthouse Park\, 2B East Gulf Beach Drive\, St. George Island\, FL\, 32328\, United States
ATTACH;FMTTYPE=image/jpeg:https://stgeorgelight.org/wp-content/uploads/2025/03/Shrimpfest-Event-2026.jpg
ORGANIZER;CN="St. George Lighthouse Association":MAILTO:capestgeorgelight@gmail.com
END:VEVENT
END:VCALENDAR